BEGIN:VCALENDAR
VERSION:2.0
PRODID:UnionActive
URL:http://ibew396.org/?zone=/unionactive/calendar.cfm&usecalsection=main
NAME:www.ibew396.org main
X-WR-CALNAME:www.ibew396.org main
DESCRIPTION:www.ibew396.org main
X-WR-CALDESC:www.ibew396.org main
REFRESH-INTERVAL;VALUE=DURATION:PT12H
X-PUBLISHED-TTL:PT12H
CALSCALE:GREGORIAN
METHOD:PUBLISH
BEGIN:VEVENT
UID:13538960@ibew396.org
SUMMARY:General Meeting
DESCRIPTION:Contact:  \nLink for more information: http://ibew396.org/index.cfm?zone=/unionactive/view_calendar.cfm&calendarID=13538960&thisdate=04/23/2026&useCalSection=main
LOCATION:3520 Boulder Hwy.
URL:http://ibew396.org/index.cfm?zone=/unionactive/view_calendar.cfm&calendarID=13538960&thisdate=04/23/2026&useCalSection=main
DTSTART:20260424T013000Z
DTEND:20260424T013000Z
DTSTAMP:20260419T071522
TRIGGER:-PT60M
END:VEVENT
BEGIN:VEVENT
UID:13538961@ibew396.org
SUMMARY:NVEnergy Unit Meeting
DESCRIPTION:Contact:  \nLink for more information: http://ibew396.org/index.cfm?zone=/unionactive/view_calendar.cfm&calendarID=13538961&thisdate=04/28/2026&useCalSection=main
LOCATION:3520 Boulder Hwy.
URL:http://ibew396.org/index.cfm?zone=/unionactive/view_calendar.cfm&calendarID=13538961&thisdate=04/28/2026&useCalSection=main
DTSTART:20260429T014500Z
DTEND:20260429T013000Z
DTSTAMP:20260419T071522
TRIGGER:-PT60M
END:VEVENT
END:VCALENDAR
